BEGIN:VCALENDAR
VERSION:2.0
PRODID:-//LEAP Australia Pty Ltd - ECPv6.15.20//NONSGML v1.0//EN
CALSCALE:GREGORIAN
METHOD:PUBLISH
X-ORIGINAL-URL:https://www.leapaust.com.au
X-WR-CALDESC:Events for LEAP Australia Pty Ltd
REFRESH-INTERVAL;VALUE=DURATION:PT1H
X-Robots-Tag:noindex
X-PUBLISHED-TTL:PT1H
BEGIN:VTIMEZONE
TZID:Australia/Sydney
BEGIN:STANDARD
TZOFFSETFROM:+1100
TZOFFSETTO:+1000
TZNAME:AEST
DTSTART:20230401T160000
END:STANDARD
BEGIN:DAYLIGHT
TZOFFSETFROM:+1000
TZOFFSETTO:+1100
TZNAME:AEDT
DTSTART:20230930T160000
END:DAYLIGHT
BEGIN:STANDARD
TZOFFSETFROM:+1100
TZOFFSETTO:+1000
TZNAME:AEST
DTSTART:20240406T160000
END:STANDARD
BEGIN:DAYLIGHT
TZOFFSETFROM:+1000
TZOFFSETTO:+1100
TZNAME:AEDT
DTSTART:20241005T160000
END:DAYLIGHT
BEGIN:STANDARD
TZOFFSETFROM:+1100
TZOFFSETTO:+1000
TZNAME:AEST
DTSTART:20250405T160000
END:STANDARD
BEGIN:DAYLIGHT
TZOFFSETFROM:+1000
TZOFFSETTO:+1100
TZNAME:AEDT
DTSTART:20251004T160000
END:DAYLIGHT
END:VTIMEZONE
BEGIN:VEVENT
DTSTART;TZID=Australia/Sydney:20240724T123000
DTEND;TZID=Australia/Sydney:20240724T163000
DTSTAMP:20260419T182750
CREATED:20240621T061445Z
LAST-MODIFIED:20240710T034005Z
UID:10477-1721824200-1721838600@www.leapaust.com.au
SUMMARY:Creo Update Seminar - Newcastle
DESCRIPTION:Creo 11 is here with a wide range of enhancements across multiple areas. LEAP is taking Creo 11 on the road with live\, in-person launch events planned for many capital cities across Australia. \nThis year’s seminars will include general best practices sessions for Creo and Windchill above and beyond our usual what’s new sessions. \nJoin us at these free afternoon events to see: \n\nlatest new features and enhancements in Creo 11 and Creo+\,\nbest practices for Creo and Windchill\,\nplus hear stories from Creo customers.\n\nLunch and Refreshments will be provided and places are limited\, so please register your attendance early by completing the form below:
URL:https://www.leapaust.com.au/event/creo-update-seminar-newcastle/
LOCATION:University of Newcastle\, Newcastle\, NSW\, Australia
END:VEVENT
END:VCALENDAR