BEGIN:VCALENDAR
VERSION:2.0
PRODID:-//LEAP Australia Pty Ltd - ECPv6.15.20//NONSGML v1.0//EN
CALSCALE:GREGORIAN
METHOD:PUBLISH
X-ORIGINAL-URL:https://www.leapaust.com.au
X-WR-CALDESC:Events for LEAP Australia Pty Ltd
REFRESH-INTERVAL;VALUE=DURATION:PT1H
X-Robots-Tag:noindex
X-PUBLISHED-TTL:PT1H
BEGIN:VTIMEZONE
TZID:Australia/Melbourne
BEGIN:STANDARD
TZOFFSETFROM:+1100
TZOFFSETTO:+1000
TZNAME:AEST
DTSTART:20230401T160000
END:STANDARD
BEGIN:DAYLIGHT
TZOFFSETFROM:+1000
TZOFFSETTO:+1100
TZNAME:AEDT
DTSTART:20230930T160000
END:DAYLIGHT
BEGIN:STANDARD
TZOFFSETFROM:+1100
TZOFFSETTO:+1000
TZNAME:AEST
DTSTART:20240406T160000
END:STANDARD
BEGIN:DAYLIGHT
TZOFFSETFROM:+1000
TZOFFSETTO:+1100
TZNAME:AEDT
DTSTART:20241005T160000
END:DAYLIGHT
BEGIN:STANDARD
TZOFFSETFROM:+1100
TZOFFSETTO:+1000
TZNAME:AEST
DTSTART:20250405T160000
END:STANDARD
BEGIN:DAYLIGHT
TZOFFSETFROM:+1000
TZOFFSETTO:+1100
TZNAME:AEDT
DTSTART:20251004T160000
END:DAYLIGHT
END:VTIMEZONE
BEGIN:VEVENT
DTSTART;TZID=Australia/Melbourne:20241016T130000
DTEND;TZID=Australia/Melbourne:20241016T134000
DTSTAMP:20260421T111212
CREATED:20241004T042705Z
LAST-MODIFIED:20241004T042814Z
UID:11706-1729083600-1729086000@www.leapaust.com.au
SUMMARY:Webinar: Advanced Features of Ansys Rocky DEM for Next-Level Simulation
DESCRIPTION:Join us for an exclusive webinar where we dive deep into the cutting-edge capabilities of Ansys Rocky DEM! Designed for engineers and simulation experts\, this session will showcase how advanced features like OptiSLang integration\, robust API capabilities\, and Multi-GPU acceleration can transform your simulation experience. \nDiscover how to streamline your workflows\, enhance your model precision\, and dramatically reduce simulation times. Whether you’re tackling complex particle interactions or optimising your designs\, this webinar will equip you with the tools to elevate your projects and drive innovation. \nWhat to Expect: \n\nLive Demonstrations: See Rocky DEM’s advanced features in action.\nExpert Insights: Hear from Ansys specialists about best practices and tips for maximizing performance.\nInteractive Q&A: Get your questions answered in real-time by our team.\n\nDon’t miss this opportunity to unlock the full potential of your simulations! Register now to secure your spot and take the first step toward revolutionising your engineering processes. \nClick below to register now: \nRegister
URL:https://www.leapaust.com.au/event/webinar-advanced-features-of-ansys-rocky-dem-for-next-level-simulation/
LOCATION:Online
END:VEVENT
END:VCALENDAR