BEGIN:VCALENDAR
VERSION:2.0
PRODID:-//LEAP Australia Pty Ltd - ECPv6.15.20//NONSGML v1.0//EN
CALSCALE:GREGORIAN
METHOD:PUBLISH
X-ORIGINAL-URL:https://www.leapaust.com.au
X-WR-CALDESC:Events for LEAP Australia Pty Ltd
REFRESH-INTERVAL;VALUE=DURATION:PT1H
X-Robots-Tag:noindex
X-PUBLISHED-TTL:PT1H
BEGIN:VTIMEZONE
TZID:Australia/Melbourne
BEGIN:STANDARD
TZOFFSETFROM:+1100
TZOFFSETTO:+1000
TZNAME:AEST
DTSTART:20240406T160000
END:STANDARD
BEGIN:DAYLIGHT
TZOFFSETFROM:+1000
TZOFFSETTO:+1100
TZNAME:AEDT
DTSTART:20241005T160000
END:DAYLIGHT
BEGIN:STANDARD
TZOFFSETFROM:+1100
TZOFFSETTO:+1000
TZNAME:AEST
DTSTART:20250405T160000
END:STANDARD
BEGIN:DAYLIGHT
TZOFFSETFROM:+1000
TZOFFSETTO:+1100
TZNAME:AEDT
DTSTART:20251004T160000
END:DAYLIGHT
BEGIN:STANDARD
TZOFFSETFROM:+1100
TZOFFSETTO:+1000
TZNAME:AEST
DTSTART:20260404T160000
END:STANDARD
BEGIN:DAYLIGHT
TZOFFSETFROM:+1000
TZOFFSETTO:+1100
TZNAME:AEDT
DTSTART:20261003T160000
END:DAYLIGHT
END:VTIMEZONE
BEGIN:VEVENT
DTSTART;TZID=Australia/Melbourne:20250820T120000
DTEND;TZID=Australia/Melbourne:20250820T143000
DTSTAMP:20260420T114254
CREATED:20230905T004526Z
LAST-MODIFIED:20250626T021912Z
UID:8010-1755691200-1755700200@www.leapaust.com.au
SUMMARY:Online Training - Getting Started with Ansys Fluent
DESCRIPTION:2.5 hour online training module teaching you the basics of Ansys Fluent. For more information contact your Ansys account manager or complete this form and one of our Ansys team members will contact you to discuss your needs.
URL:https://www.leapaust.com.au/event/online-training-getting-started-with-ansys-fluent-3/
LOCATION:Online
END:VEVENT
END:VCALENDAR